
BEGIN:VCALENDAR
VERSION:2.0
PRODID:-//Ötpróba - ECPv4.6.18//NONSGML v1.0//EN
CALSCALE:GREGORIAN
METHOD:PUBLISH
X-WR-CALNAME:Ötpróba
X-ORIGINAL-URL:https://otprobatokioba.hu
X-WR-CALDESC:Events for Ötpróba
BEGIN:VEVENT
DTSTART;TZID=UTC+2:20180616T210000
DTEND;TZID=UTC+2:20180617T040000
DTSTAMP:20260420T001939
CREATED:20180802T123415Z
LAST-MODIFIED:20190629T033549Z
UID:867-1529182800-1529208000@otprobatokioba.hu
SUMMARY:Mozgás Éjszakája
DESCRIPTION:
URL:https://otprobatokioba.hu/esemeny/mozgas-ejszakaja/
LOCATION:Műegyetem rakpart\, Budapest\, 1111\, Magyarország
GEO:47.481605;19.0563641
X-APPLE-STRUCTURED-LOCATION;VALUE=URI;X-ADDRESS=Műegyetem rakpart Budapest 1111 Magyarország;X-APPLE-RADIUS=500;X-TITLE=Műegyetem rakpart:geo:19.0563641,47.481605
CATEGORIES:futás
ORGANIZER;CN="Nagy%20Sport%C3%A1gv%C3%A1laszt%C3%B3%2C%20BBU%20Nonprofit%20Kft.":MAILTO:info@sportagvalaszto.hu
END:VEVENT
BEGIN:VEVENT
DTSTART;TZID=UTC+2:20180616T210000
DTEND;TZID=UTC+2:20180617T040000
DTSTAMP:20260420T001939
CREATED:20181210T193735Z
LAST-MODIFIED:20190328T042023Z
UID:3535-1529182800-1529208000@otprobatokioba.hu
SUMMARY:Mozgás Éjszakája
DESCRIPTION:
URL:https://otprobatokioba.hu/esemeny/mozgas-ejszakaja-2/
LOCATION:Műegyetem rakpart\, Budapest\, 1111\, Magyarország
GEO:47.481605;19.0563641
X-APPLE-STRUCTURED-LOCATION;VALUE=URI;X-ADDRESS=Műegyetem rakpart Budapest 1111 Magyarország;X-APPLE-RADIUS=500;X-TITLE=Műegyetem rakpart:geo:19.0563641,47.481605
CATEGORIES:országúti kerékpár
ORGANIZER;CN="Nagy%20Sport%C3%A1gv%C3%A1laszt%C3%B3%2C%20BBU%20Nonprofit%20Kft.":MAILTO:info@sportagvalaszto.hu
END:VEVENT
BEGIN:VEVENT
DTSTART;TZID=UTC+2:20180616T210000
DTEND;TZID=UTC+2:20180617T040000
DTSTAMP:20260420T001939
CREATED:20190629T033334Z
LAST-MODIFIED:20190629T033334Z
UID:19400-1529182800-1529208000@otprobatokioba.hu
SUMMARY:Mozgás Éjszakája
DESCRIPTION:
URL:https://otprobatokioba.hu/esemeny/mozgas-ejszakaja-9/
LOCATION:Műegyetem rakpart\, Budapest\, 1111\, Magyarország
GEO:47.481605;19.0563641
X-APPLE-STRUCTURED-LOCATION;VALUE=URI;X-ADDRESS=Műegyetem rakpart Budapest 1111 Magyarország;X-APPLE-RADIUS=500;X-TITLE=Műegyetem rakpart:geo:19.0563641,47.481605
CATEGORIES:evezés
ORGANIZER;CN="Nagy%20Sport%C3%A1gv%C3%A1laszt%C3%B3%2C%20BBU%20Nonprofit%20Kft.":MAILTO:info@sportagvalaszto.hu
END:VEVENT
BEGIN:VEVENT
DTSTART;TZID=UTC+2:20180617T080000
DTEND;TZID=UTC+2:20180617T080000
DTSTAMP:20260420T001939
CREATED:20180802T123407Z
LAST-MODIFIED:20180911T094401Z
UID:797-1529222400-1529222400@otprobatokioba.hu
SUMMARY:MAPEI Tour de Zalakaros
DESCRIPTION:A rendezvény több kerékpártúrát is magában foglal\, így a kirándulni vágyók\nés az edzettebb bringások is megtalálják a nekik valót. A hosszabb túrák a\nzalai vidék legszebb tájain vezetnek\, és a program része a gyönyörű\nzalakarosi szőlőhegy megmászása is. A Karos Spa Kis-Balaton családi túra\nsorán pedig a Tüskevár helyszínei elevenednek meg a háborítatlan tó körüli\nutakon\, a gyerekek nagy örömére. Hogy teljes legyen az élmény\, a résztvevők\nbelépőjegyet kapnak ajándékba a Zalakarosi Fürdőbe is\, illetve egy\nkuponfüzetet\, mellyel kedvezményesen vásárolhatják meg több kerékpáros\nmárka termékeit. \nTovábbi infók és nevezés: http://www.tourdezalakaros.hu/ \n
URL:https://otprobatokioba.hu/esemeny/mapei-tour-de-zalakaros-2/
LOCATION:Gyógyfürdő tér\, Zalakaros\, 8749\, Magyarország
GEO:46.552572;17.123886
X-APPLE-STRUCTURED-LOCATION;VALUE=URI;X-ADDRESS=Gyógyfürdő tér Zalakaros 8749 Magyarország;X-APPLE-RADIUS=500;X-TITLE=Gyógyfürdő tér:geo:17.123886,46.552572
CATEGORIES:országúti kerékpár
ORGANIZER;CN="Vuelta%20Sportiroda":MAILTO:volenszki.tamas@vuelta.hu
END:VEVENT
END:VCALENDAR