
BEGIN:VCALENDAR
VERSION:2.0
PRODID:-//Ötpróba - ECPv4.6.18//NONSGML v1.0//EN
CALSCALE:GREGORIAN
METHOD:PUBLISH
X-WR-CALNAME:Ötpróba
X-ORIGINAL-URL:https://otprobatokioba.hu
X-WR-CALDESC:Events for Ötpróba
BEGIN:VEVENT
DTSTART;TZID=UTC+2:20180616T000000
DTEND;TZID=UTC+2:20180616T000000
DTSTAMP:20260420T015224
CREATED:20180802T123407Z
LAST-MODIFIED:20180911T094318Z
UID:796-1529107200-1529107200@otprobatokioba.hu
SUMMARY:ÉJSZAKAI gyalogos teljesítménytúra
DESCRIPTION:Spontán sportolók előnyben: ha hirtelen kapnál kedvet ehhez a túrához\,\nakkor is biztosan lesz helyed\, mert nem szükséges előnevezni. A rövidebb\ntávok gyerekekkel is könnyedén végigjárhatók: az ő számukra is garantáltan\njó móka lesz az éjszakai erdőben bóklászni. Félni nem fogtok\, mert az\nútvonalat végig fényvisszaverők jelölik. \nTovábbi infók és nevezés: \n\nhttp://www.margita344-2.hu/esemenyek/galogos-teljesitmenyturak/goedoelloi-ejszakai\n \n
URL:https://otprobatokioba.hu/esemeny/ejszakai-gyalogos-teljesitmenytura/
LOCATION:Szabadság tér 18.\, Gödöllő\, 2100\, Magyarország
GEO:47.5973578;19.3450078
X-APPLE-STRUCTURED-LOCATION;VALUE=URI;X-ADDRESS=Szabadság tér 18. Gödöllő 2100 Magyarország;X-APPLE-RADIUS=500;X-TITLE=Szabadság tér 18.:geo:19.3450078,47.5973578
CATEGORIES:túrázás
ORGANIZER;CN="Margita%20344%2C2%20TSE":MAILTO:palffytibor@indamail.hu
END:VEVENT
BEGIN:VEVENT
DTSTART;TZID=UTC+2:20180616T080000
DTEND;TZID=UTC+2:20180616T080000
DTSTAMP:20260420T015224
CREATED:20180802T123407Z
LAST-MODIFIED:20181205T152152Z
UID:795-1529136000-1529136000@otprobatokioba.hu
SUMMARY:Brutálfutás 7.0
DESCRIPTION:Ez lesz életed leghosszabb 7 km-e\, ezt megígérhetjük! A Brutálfutás\nútvonala ugyanis hagyományos futópálya helyett sokkal inkább egy katonai\nkiképzőpályára vagy akadálypályára emlékeztet\, úgyhogy kalandokban és\nkihívásokban nem lesz hiány. Mocsaras emelkedők\, mély homokban futás\,\nátkúszás álcahálók alatt\, szalmabálák megmászása\, labirintusok\, vizesárkok…\nKészen állsz a bevetésre? \nTovábbi infók és nevezés: https://www.brutalfutas.hu \n
URL:https://otprobatokioba.hu/esemeny/brutalfutas-7-0/
LOCATION:Nyáregyháza\, 2723\, Magyarország
GEO:47.273455;19.4719762
CATEGORIES:futás
ORGANIZER;CN="Budapest%20Sportiroda%20%28BSI%29":MAILTO:marketing@futanet.hu
END:VEVENT
BEGIN:VEVENT
DTSTART;TZID=UTC+2:20180616T210000
DTEND;TZID=UTC+2:20180617T040000
DTSTAMP:20260420T015224
CREATED:20180802T123415Z
LAST-MODIFIED:20190629T033549Z
UID:867-1529182800-1529208000@otprobatokioba.hu
SUMMARY:Mozgás Éjszakája
DESCRIPTION:
URL:https://otprobatokioba.hu/esemeny/mozgas-ejszakaja/
LOCATION:Műegyetem rakpart\, Budapest\, 1111\, Magyarország
GEO:47.481605;19.0563641
X-APPLE-STRUCTURED-LOCATION;VALUE=URI;X-ADDRESS=Műegyetem rakpart Budapest 1111 Magyarország;X-APPLE-RADIUS=500;X-TITLE=Műegyetem rakpart:geo:19.0563641,47.481605
CATEGORIES:futás
ORGANIZER;CN="Nagy%20Sport%C3%A1gv%C3%A1laszt%C3%B3%2C%20BBU%20Nonprofit%20Kft.":MAILTO:info@sportagvalaszto.hu
END:VEVENT
BEGIN:VEVENT
DTSTART;TZID=UTC+2:20180616T210000
DTEND;TZID=UTC+2:20180617T040000
DTSTAMP:20260420T015224
CREATED:20181210T193735Z
LAST-MODIFIED:20190328T042023Z
UID:3535-1529182800-1529208000@otprobatokioba.hu
SUMMARY:Mozgás Éjszakája
DESCRIPTION:
URL:https://otprobatokioba.hu/esemeny/mozgas-ejszakaja-2/
LOCATION:Műegyetem rakpart\, Budapest\, 1111\, Magyarország
GEO:47.481605;19.0563641
X-APPLE-STRUCTURED-LOCATION;VALUE=URI;X-ADDRESS=Műegyetem rakpart Budapest 1111 Magyarország;X-APPLE-RADIUS=500;X-TITLE=Műegyetem rakpart:geo:19.0563641,47.481605
CATEGORIES:országúti kerékpár
ORGANIZER;CN="Nagy%20Sport%C3%A1gv%C3%A1laszt%C3%B3%2C%20BBU%20Nonprofit%20Kft.":MAILTO:info@sportagvalaszto.hu
END:VEVENT
BEGIN:VEVENT
DTSTART;TZID=UTC+2:20180616T210000
DTEND;TZID=UTC+2:20180617T040000
DTSTAMP:20260420T015224
CREATED:20190629T033334Z
LAST-MODIFIED:20190629T033334Z
UID:19400-1529182800-1529208000@otprobatokioba.hu
SUMMARY:Mozgás Éjszakája
DESCRIPTION:
URL:https://otprobatokioba.hu/esemeny/mozgas-ejszakaja-9/
LOCATION:Műegyetem rakpart\, Budapest\, 1111\, Magyarország
GEO:47.481605;19.0563641
X-APPLE-STRUCTURED-LOCATION;VALUE=URI;X-ADDRESS=Műegyetem rakpart Budapest 1111 Magyarország;X-APPLE-RADIUS=500;X-TITLE=Műegyetem rakpart:geo:19.0563641,47.481605
CATEGORIES:evezés
ORGANIZER;CN="Nagy%20Sport%C3%A1gv%C3%A1laszt%C3%B3%2C%20BBU%20Nonprofit%20Kft.":MAILTO:info@sportagvalaszto.hu
END:VEVENT
END:VCALENDAR