
BEGIN:VCALENDAR
VERSION:2.0
PRODID:-//Ötpróba - ECPv4.6.18//NONSGML v1.0//EN
CALSCALE:GREGORIAN
METHOD:PUBLISH
X-WR-CALNAME:Ötpróba
X-ORIGINAL-URL:https://otprobatokioba.hu
X-WR-CALDESC:Events for Ötpróba
BEGIN:VEVENT
DTSTART;TZID=UTC+2:20180609T000000
DTEND;TZID=UTC+2:20180609T000000
DTSTAMP:20260424T132924
CREATED:20180802T123407Z
LAST-MODIFIED:20180911T094041Z
UID:793-1528502400-1528502400@otprobatokioba.hu
SUMMARY:Nyári Strázsa
DESCRIPTION:Kezdőknek\, gyerekeknek\, családoknak és időseknek különösen ajánljuk ezt az\ningyenes programot\, mert nem teljesítménytúra\, így szintidő sincs. Mindenki\na maga tempójában\, kényelmesen végiggyalogolhatja a kiválasztott távot.\nRegisztrálj előre\, hogy le ne maradj a bográcsgulyásról! Ha előre\njelentkezel\, akkor ráadásul autóbuszos szállítást is igényelhetsz\nSzabadszállásról. \nTovábbi infók és nevezés:\n\nhttp://hnyk.hu/index.php?r=StaticPage/View/644\n \n
URL:https://otprobatokioba.hu/esemeny/nyari-strazsa/
LOCATION:Szabadszállás\, 6080\, Magyarország
GEO:46.9024006;19.2254403
CATEGORIES:túrázás
ORGANIZER;CN="Honv%C3%A9d%20Nyugd%C3%ADjas%20Klub%20Szabadsz%C3%A1ll%C3%A1s":MAILTO:hnykszabadszallas@gmail.com
END:VEVENT
BEGIN:VEVENT
DTSTART;TZID=UTC+2:20180609T073000
DTEND;TZID=UTC+2:20180609T073000
DTSTAMP:20260424T132924
CREATED:20180802T123407Z
LAST-MODIFIED:20180911T094011Z
UID:792-1528529400-1528529400@otprobatokioba.hu
SUMMARY:Crosskovácsi Maraton
DESCRIPTION:Gyönyörű hegyekkel körülölelt hely\, változatos terep és egy profi verseny –\nez az\, amivel a Crosskovácsi Maraton megkínál téged. A hosszú- és a\nközéptáv egyben országos bajnoki pontszerző kategória is. De akkor se\nmaradj otthon\, ha a családdal kirándulnátok a Pilisben egyet\, ugyanis\nlazább családi és gyermek kategóriák is lesznek. \nTovábbi infók és nevezés: http://www.crosskovacsi.hu \n
URL:https://otprobatokioba.hu/esemeny/crosskovacsi-maraton-2/
LOCATION:Kossuth Lajos u. 2\, Nagykovácsi\, 2094\, Magyarország
GEO:47.5757306;18.8915097
X-APPLE-STRUCTURED-LOCATION;VALUE=URI;X-ADDRESS=Kossuth Lajos u. 2 Nagykovácsi 2094 Magyarország;X-APPLE-RADIUS=500;X-TITLE=Kossuth Lajos u. 2:geo:18.8915097,47.5757306
CATEGORIES:hegyi kerékpár
ORGANIZER;CN="Crosskov%C3%A1csi%20Sport-%20%C3%A9s%20K%C3%B6rnyezetv%C3%A9d%C5%91%20Egyes%C3%BClet":MAILTO:marathon@crosskovacsi.hu
END:VEVENT
END:VCALENDAR