
BEGIN:VCALENDAR
VERSION:2.0
PRODID:-//Ötpróba - ECPv4.6.18//NONSGML v1.0//EN
CALSCALE:GREGORIAN
METHOD:PUBLISH
X-WR-CALNAME:Ötpróba
X-ORIGINAL-URL:https://otprobatokioba.hu
X-WR-CALDESC:Events for Ötpróba
BEGIN:VEVENT
DTSTART;TZID=UTC+2:20180513T000000
DTEND;TZID=UTC+2:20180513T000000
DTSTAMP:20260420T002253
CREATED:20180802T123405Z
LAST-MODIFIED:20180911T093126Z
UID:775-1526169600-1526169600@otprobatokioba.hu
SUMMARY:GÖDÖLLŐ országúti kerékpáros teljesítménytúra
DESCRIPTION:Gödöllő egy igazi ékszerdoboz! Most alkalmad nyílik arra\, hogy a bringád\nnyergében ülve fedezd fel a várost\, keresztbe-kasul bejárva az utcáit. A\ntávok 20 km-tól 100 km-ig terjedő széles spektrumán biztosan megtalálod az\nedzettségi szintedhez illőt! \nTovábbi infók és nevezés:\n\nhttp://www.margita344-2.hu/esemenyek/kerekparos-teljesitmenyturak-1\n \n
URL:https://otprobatokioba.hu/esemeny/godollo-orszaguti-kerekparos-teljesitmenytura/
LOCATION:Szabadság tér\, Gödöllő\, 2100\, Magyarország
GEO:47.5982353;19.347075
X-APPLE-STRUCTURED-LOCATION;VALUE=URI;X-ADDRESS=Szabadság tér Gödöllő 2100 Magyarország;X-APPLE-RADIUS=500;X-TITLE=Szabadság tér:geo:19.347075,47.5982353
CATEGORIES:országúti kerékpár
ORGANIZER;CN="Margita%20344%2C2%20TSE":MAILTO:palffytibor@indamail.hu
END:VEVENT
BEGIN:VEVENT
DTSTART;TZID=UTC+2:20180513T070000
DTEND;TZID=UTC+2:20180513T070000
DTSTAMP:20260420T002253
CREATED:20180802T123405Z
LAST-MODIFIED:20190328T040545Z
UID:774-1526194800-1526194800@otprobatokioba.hu
SUMMARY:14 év - 14 km Európai Uniós futás
DESCRIPTION:Megtelt\, már csak várólistára jelentkezhetsz! \nMagyarország 14 éve az Európai Unió tagja. Ennek örömére gyere\, ünnepelj és\nfuss velünk 14 km-t (váltóban 7-et) a budapesti Európa-napi fesztiválon! Az\nútvonal különösen érdekesnek ígérkezik\, ugyanis menet közben 14\, uniós\ntámogatásból felújtott vár és kastély képét nézheted meg. 2018 a kulturális\nörökség éve\, ezért így tisztelgünk annak közös megőrzése mellett. \nTovábbi infók és nevezés: https://www.bbu.hu/eu14/ \n
URL:https://otprobatokioba.hu/esemeny/14-ev-14-km-europai-unios-futas/
LOCATION:Szabadság tér\, Budapest\, 1054
GEO:47.5039728;19.0506155
X-APPLE-STRUCTURED-LOCATION;VALUE=URI;X-ADDRESS=Szabadság tér Budapest 1054;X-APPLE-RADIUS=500;X-TITLE=Szabadság tér:geo:19.0506155,47.5039728
CATEGORIES:futás
ORGANIZER;CN="Nagy%20Sport%C3%A1gv%C3%A1laszt%C3%B3%2C%20BBU%20Nonprofit%20Kft.":MAILTO:info@sportagvalaszto.hu
END:VEVENT
END:VCALENDAR