
BEGIN:VCALENDAR
VERSION:2.0
PRODID:-//Ötpróba - ECPv4.6.18//NONSGML v1.0//EN
CALSCALE:GREGORIAN
METHOD:PUBLISH
X-WR-CALNAME:Ötpróba
X-ORIGINAL-URL:https://otprobatokioba.hu
X-WR-CALDESC:Events for Ötpróba
BEGIN:VEVENT
DTSTART;TZID=UTC+2:20180512T063000
DTEND;TZID=UTC+2:20180512T063000
DTSTAMP:20260419T224727
CREATED:20180802T123405Z
LAST-MODIFIED:20180911T093302Z
UID:771-1526106600-1526106600@otprobatokioba.hu
SUMMARY:Fertő-tó Kör
DESCRIPTION:A 117 km-es túra a Hegykő – Fertőrákos – Purbach – Podersdorf – Fertőújlak\n– Hegykő útvonalon halad\, remek infrastruktúra mellett\, kiváló minőségű\nutakon. Az ausztriai szakaszon különösen szép tóparti kilátás fogadja a\nbringásokat. A látvány mindent megér – még azt a kis küzdelmet is\, ami a\nBalftól kezdődő dombokon vár a túrázókra. \nNégy frissítőpont és pár összeváró pont lesz\, a teljes kör így 25-30 km-es\nszakaszokban teljesíthető. \nTovábbi infók és nevezés: http://fertotekergo.hu/ \n
URL:https://otprobatokioba.hu/esemeny/ferto-to-kor/
LOCATION:Szent Mihály u. 28.\, Hegykő\, 9437
GEO:47.620874;16.791261
X-APPLE-STRUCTURED-LOCATION;VALUE=URI;X-ADDRESS=Szent Mihály u. 28. Hegykő 9437;X-APPLE-RADIUS=500;X-TITLE=Szent Mihály u. 28.:geo:16.791261,47.620874
CATEGORIES:országúti kerékpár
ORGANIZER;CN="Szigethi%20Bal%C3%A1zs%20egy%C3%A9ni%20v%C3%A1llalkoz%C3%B3":MAILTO:info@fertotekergo.hu
END:VEVENT
BEGIN:VEVENT
DTSTART;TZID=UTC+2:20180512T070000
DTEND;TZID=UTC+2:20180512T070000
DTSTAMP:20260419T224727
CREATED:20180802T123405Z
LAST-MODIFIED:20180911T093159Z
UID:772-1526108400-1526108400@otprobatokioba.hu
SUMMARY:Orfűi Kritérium
DESCRIPTION:ELMARAD! \n\nElőre nem látható\, a verseny megvalósítását ellehetetlenítő okok miatt\naz Orfűi Kritérium országúti mezőnyversenyt 2018-ban nem rendezik meg.\nAzoknak a nevezőknek\, akik az előnevezési díjat átutalták vagy más\nmódon fizették be\, még a verseny hetében visszautalják azt a szervezők.\n \nTovábbi infók és nevezés: https://www.bringakupa.hu/ \n
URL:https://otprobatokioba.hu/esemeny/orfui-kriterium/
LOCATION:Dollár út 1.\, Orfű\, 7677\, Magyarország
GEO:46.146304;18.138264
X-APPLE-STRUCTURED-LOCATION;VALUE=URI;X-ADDRESS=Dollár út 1. Orfű 7677 Magyarország;X-APPLE-RADIUS=500;X-TITLE=Dollár út 1.:geo:18.138264,46.146304
CATEGORIES:országúti kerékpár
ORGANIZER;CN="Somogy%20Megyei%20Ker%C3%A9kp%C3%A1ros%20Sz%C3%B6vets%C3%A9g%20%28SMKSZ%29%2C%20Balaton%20Team%20Szabadid%C5%91-%20%C3%A9s%20Sportrendezv%C3%A9ny-szervez%C5%91%20Egyes%C3%BClet":MAILTO:info@balaton-team.hu
END:VEVENT
BEGIN:VEVENT
DTSTART;TZID=UTC+2:20180512T070000
DTEND;TZID=UTC+2:20180512T070000
DTSTAMP:20260419T224727
CREATED:20180802T123405Z
LAST-MODIFIED:20180911T093237Z
UID:773-1526108400-1526108400@otprobatokioba.hu
SUMMARY:Orfű-Gyűrűfű-Orfű MTB Ökotúra
DESCRIPTION:Ingyenes egészségmegőrző program minden bringázni szerető ember számára\,\nmelynek célja a térség\, elsősorban Orfű és a gyűrűfűi ökofalu\nnépszerűsítése. Jó tudni\, hogy az 58 km-es túra csak mountain bike-kal\nteljesíthető! Az esemény előtti esetleges esőzés sem feltétlenül jelent\nakadályt\, mert szükség esetén a szervezők módosítják az útvonalat egy\nkönnyebben járhatóra. Az előregisztrálókat ingyen ebéddel is megvendégelik. \nTovábbi infók és nevezés: https://www.bringakupa.hu/ \n
URL:https://otprobatokioba.hu/esemeny/orfu-gyurufu-orfu-mtb-okotura/
LOCATION:Dollár út 1.\, Orfű\, 7677\, Magyarország
GEO:46.146304;18.138264
X-APPLE-STRUCTURED-LOCATION;VALUE=URI;X-ADDRESS=Dollár út 1. Orfű 7677 Magyarország;X-APPLE-RADIUS=500;X-TITLE=Dollár út 1.:geo:18.138264,46.146304
CATEGORIES:hegyi kerékpár
ORGANIZER;CN="Somogy%20Megyei%20Ker%C3%A9kp%C3%A1ros%20Sz%C3%B6vets%C3%A9g%20%28SMKSZ%29%2C%20Balaton%20Team%20Szabadid%C5%91-%20%C3%A9s%20Sportrendezv%C3%A9ny-szervez%C5%91%20Egyes%C3%BClet":MAILTO:info@balaton-team.hu
END:VEVENT
END:VCALENDAR