
BEGIN:VCALENDAR
VERSION:2.0
PRODID:-//Ötpróba - ECPv4.6.18//NONSGML v1.0//EN
CALSCALE:GREGORIAN
METHOD:PUBLISH
X-WR-CALNAME:Ötpróba
X-ORIGINAL-URL:https://otprobatokioba.hu
X-WR-CALDESC:Events for Ötpróba
BEGIN:VEVENT
DTSTART;TZID=UTC+2:20180506T070000
DTEND;TZID=UTC+2:20180506T070000
DTSTAMP:20260419T122653
CREATED:20180802T123405Z
LAST-MODIFIED:20190326T115337Z
UID:768-1525590000-1525590000@otprobatokioba.hu
SUMMARY:XVI. Kínok Kínja nemzetközi kerékpáros mezőny verseny
DESCRIPTION:
URL:https://otprobatokioba.hu/esemeny/xvi-kinok-kinja-nemzetkozi-kerekparos-mezony-verseny/
LOCATION:Szent István tér 1.\, Esztergom\, 2500\, Magyarország
GEO:47.800566;18.7397269
X-APPLE-STRUCTURED-LOCATION;VALUE=URI;X-ADDRESS=Szent István tér 1. Esztergom 2500 Magyarország;X-APPLE-RADIUS=500;X-TITLE=Szent István tér 1.:geo:18.7397269,47.800566
CATEGORIES:országúti kerékpár
ORGANIZER;CN="Esztergomi%20K%C3%BCll%C5%91szaggat%C3%B3k%20Ker%C3%A9kp%C3%A1r%20Egyes%C3%BClet":MAILTO:info@kulloszaggatok.hu
END:VEVENT
END:VCALENDAR