
BEGIN:VCALENDAR
VERSION:2.0
PRODID:-//Ötpróba - ECPv4.6.18//NONSGML v1.0//EN
CALSCALE:GREGORIAN
METHOD:PUBLISH
X-WR-CALNAME:Ötpróba
X-ORIGINAL-URL:https://otprobatokioba.hu
X-WR-CALDESC:Events for Ötpróba
BEGIN:VEVENT
DTSTART;TZID=UTC+2:20180603T063000
DTEND;TZID=UTC+2:20180603T063000
DTSTAMP:20260419T122947
CREATED:20180802T123407Z
LAST-MODIFIED:20181205T184623Z
UID:791-1528007400-1528007400@otprobatokioba.hu
SUMMARY:I.Szeged Maraton „Barátság Maraton emlékére”
DESCRIPTION:
URL:https://otprobatokioba.hu/esemeny/i-szeged-maraton-baratsag-maraton-emlekere/
LOCATION:Tömörkény u. 1\, Szeged\, 6720\, Magyarország
GEO:46.2495422;20.1515336
X-APPLE-STRUCTURED-LOCATION;VALUE=URI;X-ADDRESS=Tömörkény u. 1 Szeged 6720 Magyarország;X-APPLE-RADIUS=500;X-TITLE=Tömörkény u. 1:geo:20.1515336,46.2495422
CATEGORIES:futás
ORGANIZER;CN="Pulzus%20Szeged%20Fut%C3%B3klub%20Sport%20Egyes%C3%BClet":MAILTO:pulzusfutoklub@gmail.com
END:VEVENT
END:VCALENDAR